BEGIN:VCALENDAR
VERSION:2.0
PRODID:-//We Love Art - ECPv6.13.2//NONSGML v1.0//EN
CALSCALE:GREGORIAN
METHOD:PUBLISH
X-ORIGINAL-URL:https://weloveart-2.tirongraphics-presentation.space
X-WR-CALDESC:Events for We Love Art
REFRESH-INTERVAL;VALUE=DURATION:PT1H
X-Robots-Tag:noindex
X-PUBLISHED-TTL:PT1H
BEGIN:VTIMEZONE
TZID:Asia/Dubai
BEGIN:STANDARD
TZOFFSETFROM:+0400
TZOFFSETTO:+0400
TZNAME:+04
DTSTART:20210101T000000
END:STANDARD
END:VTIMEZONE
BEGIN:VEVENT
DTSTART;TZID=Asia/Dubai:20210918T103000
DTEND;TZID=Asia/Dubai:20211106T133000
DTSTAMP:20260421T232111
CREATED:20210614T110021Z
LAST-MODIFIED:20211024T080006Z
UID:10000257-1631961000-1636205400@weloveart-2.tirongraphics-presentation.space
SUMMARY:8 WEEKS - LEVEL 1 PAINTING COURSE - 18 September
DESCRIPTION:LEVEL 1 PAINTING COURSE\nIn this 8-week introductory course\, you will build confidence in your talent and learn that there is no right or wrong. Every “mistaken” brushstroke can easily be fixed or\, better yet\, become part of a stunning masterpiece. \nThe workshop is perfect for anyone who wants to explore their artistic side in an easy\, fun\, and stress-free environment. No previous drawing or painting experience is required and all materials are supplied. \nOn a weekly basis\, you will be filling your portfolio with stunning art and work towards creating a Masterpiece that you will showcase during the grand finale of the course: the Art Exhibition. This is a celebration where you showcase the fruits of your creativity to your closest and dearest. \nSurrounded by a motivated and like-minded group\, while painting to music in a relaxing studio environment\, these weeks will be an experience that leaves you with great memories and strong friendships. \nCOURSE OUTLINE\n\nWeek One: Introduction to Colour\nWeek Two: Landscape – One Point Perspective\nWeek Three: Portrait\nWeek Four: Still Life\nWeek Five: Collage\nWeek Six and Seven: Own Masterpiece\nWeek Seven: Catch Up Night\nWeek Eight: Exhibition Night\n\nCOURSE INFORMATION\n\nDate:  18 September until 06 November.\nLocation: We will host our classes in a very spacious room called Reef\, located on the first floor in the Intercontinental Marina.\nTimings: Saturday – 10.30am – 1.30pm\nExhibition: This will be held on 6th November where you will showcase your art\, and especially your Masterpiece!\nCatch Up: Don’t worry if you miss a class. We have an extra Catch Up class in the 7th week.\n\nPrice: 2\,995 AED (this includes 5% VAT) \nThis includes: \n\n24 hours of classes with all equipment provided;\nFood and beverages during the course;\nYour own portfolio book to keep track of your paintings;\nYour own completion certificate;\nAn exhibition night during the 8th week.\n\nPackage Deals: If you register for the course with a second person\, each of you will receive a 5% discount. So spread the word! \nWe advise booking well in advance as spaces are limited.
URL:https://weloveart-2.tirongraphics-presentation.space/event/8-weeks-level-1-painting-course-18-september/
LOCATION:Reef Intercontinental Marina\, Reef\, First Floor\, Intercontinental Marina\, Dubai\, Dubai\, United Arab Emirates
CATEGORIES:Painting Courses
ATTACH;FMTTYPE=image/jpeg:https://weloveart-2.tirongraphics-presentation.space/wp-content/uploads/2020/07/Painting-Course-001.jpg
END:VEVENT
BEGIN:VEVENT
DTSTART;TZID=Asia/Dubai:20210417T140000
DTEND;TZID=Asia/Dubai:20210612T170000
DTSTAMP:20260421T232111
CREATED:20210321T122126Z
LAST-MODIFIED:20210328T072533Z
UID:10000249-1618668000-1623517200@weloveart-2.tirongraphics-presentation.space
SUMMARY:8 WEEKS - LEVEL 2 PAINTING COURSE
DESCRIPTION:LEVEL 2 PAINTING COURSE\nIn this 8-week introductory course\, you will build confidence in your talent and learn that there is no right or wrong. Every “mistaken” brushstroke can easily be fixed or\, better yet\, become part of a stunning masterpiece. \nPainting classes at this level are more dynamic and include a sunset painting on the beach as well as a live model painting class. You will focus on the deeper concerns of an artist by expressing feelings through your painting. \nCompletion of the Level 2 course will equip you with the tools\, techniques\, and confidence to make painting a lifelong passion. \nOn a weekly basis\, you will be filling your portfolio with stunning art and work towards creating a Masterpiece which you will showcase during the grand finale of the course: the Art Exhibition. This is a celebration where you showcase the fruits of your creativity to your closest and dearest. \nSurrounded by a motivated and like-minded group\, while painting to music in a relaxing studio environment\, these weeks will be an experience that leaves you with great memories and strong friendships. \nCOURSE OUTLINE\n\nWeek One: Landscape – Two Point Perspective\nWeek Two: Landscape – Surprise Painting Experience From An Expert Teacher\nWeek Three: Self Portrait\nWeek Four: Live Model Painting\nWeek Five: Pop Art\nWeek Six and Seven: Own Masterpiece\nWeek Seven (Sunday): Catch Up Night\nWeek Eight: Exhibition\n\nCOURSE INFORMATION\n\nDate:  17 April until 12 June with one break on 15 May (EID)\nLocation: We will host our classes in a very spacious room called Reef\, located on the first floor in the Intercontinental Marina.\nTimings: Saturday – 2.00pm – 5.00pm\nExhibition: This will be held on 12 June where you will showcase you art\, and especially your Masterpiece!\nCatch Up: Don’t worry if you miss a class. We have an extra Catch Up class in the 7th week on Sunday evening (5th of June).\n\nPrice: 2\,995 AED (this includes 5% VAT) \nThis includes: \n\n24 hours of classes with all equipment provided;\nFood and beverages during the course;\nYour own portfolio book to keep track of your paintings;\nYour own completion certificate;\nAn exhibition night during the 8th week.\n\nPackage Deals: If you register for the course with a second person\, each of you will receive 5% discount. So spread the word! \nWe advise booking well in advance as spaces are limited.
URL:https://weloveart-2.tirongraphics-presentation.space/event/8-weeks-level-2-painting-course-april-june/
LOCATION:Reef Intercontinental Marina\, Reef\, First Floor\, Intercontinental Marina\, Dubai\, Dubai\, United Arab Emirates
CATEGORIES:Painting Courses
ATTACH;FMTTYPE=image/jpeg:https://weloveart-2.tirongraphics-presentation.space/wp-content/uploads/2020/12/BEACH-scaled.jpg
END:VEVENT
BEGIN:VEVENT
DTSTART;TZID=Asia/Dubai:20210417T103000
DTEND;TZID=Asia/Dubai:20210612T133000
DTSTAMP:20260421T232111
CREATED:20210315T060040Z
LAST-MODIFIED:20210417T110946Z
UID:10000248-1618655400-1623504600@weloveart-2.tirongraphics-presentation.space
SUMMARY:8 WEEKS - LEVEL 1 PAINTING COURSE -
DESCRIPTION:LEVEL 1 PAINTING COURSE\nIn this 8-week introductory course\, you will build confidence in your talent and learn that there is no right or wrong. Every “mistaken” brushstroke can easily be fixed or\, better yet\, become part of a stunning masterpiece. \nThe workshop is perfect for anyone who wants to explore their artistic side in an easy\, fun\, and stress-free environment. No previous drawing or painting experience is required and all materials are supplied. \nOn a weekly basis\, you will be filling your portfolio with stunning art and work towards creating a Masterpiece that you will showcase during the grand finale of the course: the Art Exhibition. This is a celebration where you showcase the fruits of your creativity to your closest and dearest. \nSurrounded by a motivated and like-minded group\, while painting to music in a relaxing studio environment\, these weeks will be an experience that leaves you with great memories and strong friendships. \nCOURSE OUTLINE\n\nWeek One: Introduction to Colour\nWeek Two: Landscape – One Point Perspective\nWeek Three: Portrait\nWeek Four: Still Life\nWeek Five: Collage\nWeek Six and Seven: Own Masterpiece\nWeek Seven (Sunday): Catch Up Night\nWeek Eight: Exhibition Night\n\nCOURSE INFORMATION\n\nDate:  17 April until 12 June with one break on 15 May (EID).\nLocation: We will host our classes in a very spacious room called Reef\, located on the first floor in the Intercontinental Marina.\nTimings: Saturday – 10.30am – 1.30pm\nExhibition: This will be held on 12th June where you will showcase your art\, and especially your Masterpiece!\nCatch Up: Don’t worry if you miss a class. We have an extra Catch Up class in the 7th week on Sunday evening (5th of June).\n\nPrice: 2\,995 AED (this includes 5% VAT) \nThis includes: \n\n24 hours of classes with all equipment provided;\nFood and beverages during the course;\nYour own portfolio book to keep track of your paintings;\nYour own completion certificate;\nAn exhibition night during the 8th week.\n\nPackage Deals: If you register for the course with a second person\, each of you will receive a 5% discount. So spread the word! \nWe advise booking well in advance as spaces are limited.
URL:https://weloveart-2.tirongraphics-presentation.space/event/8-weeks-level-1-painting-course-2/
LOCATION:Reef Intercontinental Marina\, Reef\, First Floor\, Intercontinental Marina\, Dubai\, Dubai\, United Arab Emirates
CATEGORIES:Painting Courses
ATTACH;FMTTYPE=image/jpeg:https://weloveart-2.tirongraphics-presentation.space/wp-content/uploads/2020/07/Painting-Course-001.jpg
END:VEVENT
BEGIN:VEVENT
DTSTART;TZID=Asia/Dubai:20210206T103000
DTEND;TZID=Asia/Dubai:20210327T133000
DTSTAMP:20260421T232111
CREATED:20201213T092152Z
LAST-MODIFIED:20210131T103211Z
UID:10000241-1612607400-1616851800@weloveart-2.tirongraphics-presentation.space
SUMMARY:8 WEEKS - LEVEL 1 PAINTING COURSE
DESCRIPTION:LEVEL 1 PAINTING COURSE\nIn this 8-week introductory course\, you will build confidence in your talent and learn that there is no right or wrong. Every “mistaken” brushstroke can easily be fixed or\, better yet\, become part of a stunning masterpiece. \nThe workshop is perfect for anyone who wants to explore their artistic side in an easy\, fun and stress-free environment. No previous drawing or painting experience is required and all materials are supplied. \nOn a weekly basis you will be filling your portfolio with stunning art and work towards creating a Masterpiece which you will showcase during the grand finale of the course: the Art Exhibition. This is a celebration where you showcase the fruits of your creativity to your closest and dearest. \nSurrounded by a motivated and like-minded group\, while painting to music in a relaxing studio environment\, these weeks will be an experience that leaves you with great memories and strong friendships. \nCOURSE OUTLINE\n\nWeek One: Introduction to Colour\nWeek Two: Landscape – One Point Perspective\nWeek Three: Portrait\nWeek Four: Still Life\nWeek Five: Collage\nWeek Six and Seven: Own Masterpiece\nWeek Seven (Sunday): Catch Up Night\nWeek Eight: Exhibition Night\n\nCOURSE INFORMATION\n\nDate:  06 February until 27 March\nLocation: We will host our classes in a very spacious room called Reef\, located on the first floor in the Intercontinental Marina.\nTimings: Saturday – 10.30am – 1.30pm\nExhibition: This will be held on 13 March where you will showcase you art\, and especially your Masterpiece!\nCatch Up: Don’t worry if you miss a class. We have an extra Catch Up class on 7 March from 7.00pm – 10.00pm.\n\nPrice: 2\,995 AED (this includes 5% VAT) \nThis includes: \n\n24 hours of classes with all equipment provided;\nFood and beverages during the course;\nYour own portfolio book to keep track of your paintings;\nYour own completion certificate;\nAn exhibition night during the 8th week.\n\nPackage Deals: If you register for the course with a second person\, each of you will receive 5% discount. So spread the word! \nWe advise booking well in advance as spaces are limited.
URL:https://weloveart-2.tirongraphics-presentation.space/event/8-weeks-level-1-painting-course/
LOCATION:Reef Intercontinental Marina\, Reef\, First Floor\, Intercontinental Marina\, Dubai\, Dubai\, United Arab Emirates
CATEGORIES:Painting Courses
ATTACH;FMTTYPE=image/jpeg:https://weloveart-2.tirongraphics-presentation.space/wp-content/uploads/2020/07/Painting-Course-001.jpg
END:VEVENT
BEGIN:VEVENT
DTSTART;TZID=Asia/Dubai:20210123T133000
DTEND;TZID=Asia/Dubai:20210313T163000
DTSTAMP:20260421T232111
CREATED:20201213T082656Z
LAST-MODIFIED:20210117T191704Z
UID:10000240-1611408600-1615653000@weloveart-2.tirongraphics-presentation.space
SUMMARY:8 WEEKS - LEVEL 2 PAINTING COURSE
DESCRIPTION:LEVEL 2 PAINTING COURSE\nIn this 8-week introductory course\, you will build confidence in your talent and learn that there is no right or wrong. Every “mistaken” brushstroke can easily be fixed or\, better yet\, become part of a stunning masterpiece. \nPainting classes at this level are more dynamic\, and include a sunrise painting on the beach as well as a live model painting class. You will focus on the deeper concerns of an artist by expressing feelings through your painting. \nCompletion of the Level 2 course will equip you with the tools\, techniques and confidence to make painting a lifelong passion. \nOn a weekly basis you will be filling your portfolio with stunning art and work towards creating a Masterpiece which you will showcase during the grand finale of the course: the Art Exhibition. This is a celebration where you showcase the fruits of your creativity to your closest and dearest. \nSurrounded by a motivated and like-minded group\, while painting to music in a relaxing studio environment\, these weeks will be an experience that leaves you with great memories and strong friendships. \nCOURSE OUTLINE\n\nWeek One: Landscape – Two Point Perspective\nWeek Two: Landscape – Sunrise Beach Painting\nWeek Three: Self Portrait\nWeek Four: Live Model Painting\nWeek Five: Pop Art\nWeek Six and Seven: Own Masterpiece\nWeek Seven (Sunday): Catch Up Night\nWeek Eight: Exhibition\n\nCOURSE INFORMATION\n\nDate:  23 January until 13 March\nLocation: We will host our classes in a very spacious room called Reef\, located on the first floor in the Intercontinental Marina.\nTimings: Saturday – 1.30pm – 4.30pm\nExhibition: This will be held on 13 March where you will showcase you art\, and especially your Masterpiece!\nCatch Up: Don’t worry if you miss a class. We have an extra Catch Up class on 7 March from 7.00pm – 10.00pm.\n\nPrice: 2\,995 AED (this includes 5% VAT) \nThis includes: \n\n24 hours of classes with all equipment provided;\nFood and beverages during the course;\nYour own portfolio book to keep track of your paintings;\nYour own completion certificate;\nAn exhibition night during the 8th week.\n\nPackage Deals: If you register for the course with a second person\, each of you will receive 5% discount. So spread the word! \nWe advise booking well in advance as spaces are limited.
URL:https://weloveart-2.tirongraphics-presentation.space/event/8-weeks-level-2-painting-course/
LOCATION:Reef Intercontinental Marina\, Reef\, First Floor\, Intercontinental Marina\, Dubai\, Dubai\, United Arab Emirates
CATEGORIES:Painting Courses
ATTACH;FMTTYPE=image/jpeg:https://weloveart-2.tirongraphics-presentation.space/wp-content/uploads/2020/12/BEACH-scaled.jpg
END:VEVENT
END:VCALENDAR