BEGIN:VCALENDAR
VERSION:2.0
PRODID:-//We Love Art - ECPv6.13.2//NONSGML v1.0//EN
CALSCALE:GREGORIAN
METHOD:PUBLISH
X-WR-CALNAME:We Love Art
X-ORIGINAL-URL:https://weloveart-2.tirongraphics-presentation.space
X-WR-CALDESC:Events for We Love Art
REFRESH-INTERVAL;VALUE=DURATION:PT1H
X-Robots-Tag:noindex
X-PUBLISHED-TTL:PT1H
BEGIN:VTIMEZONE
TZID:Asia/Dubai
BEGIN:STANDARD
TZOFFSETFROM:+0400
TZOFFSETTO:+0400
TZNAME:+04
DTSTART:20220101T000000
END:STANDARD
END:VTIMEZONE
BEGIN:VEVENT
DTSTART;TZID=Asia/Dubai:20220129T103000
DTEND;TZID=Asia/Dubai:20220129T133000
DTSTAMP:20260421T151924
CREATED:20211223T085600Z
LAST-MODIFIED:20220302T130233Z
UID:10000275-1643452200-1643463000@weloveart-2.tirongraphics-presentation.space
SUMMARY:8 WEEKS - LEVEL 1 PAINTING COURSE - 29th January
DESCRIPTION:LEVEL 1 PAINTING COURSE\nIn this 8-week introductory course\, you will build confidence in your talent and learn that there is no right or wrong. Every “mistaken” brushstroke can easily be fixed or\, better yet\, become part of a stunning masterpiece. \nThe workshop is perfect for anyone who wants to explore their artistic side in an easy\, fun\, and stress-free environment. No previous drawing or painting experience is required and all materials are supplied. \nOn a weekly basis\, you will be filling your portfolio with stunning art and work towards creating a Masterpiece that you will showcase during the grand finale of the course: the Art Exhibition. This is a celebration where you showcase the fruits of your creativity to your closest and dearest. \nSurrounded by a motivated and like-minded group\, while painting to music in a relaxing studio environment\, these weeks will be an experience that leaves you with great memories and strong friendships. \nCOURSE OUTLINE\n\nWeek One: Introduction to Colour\nWeek Two: Landscape – One Point Perspective\nWeek Three: Portrait\nWeek Four: Still Life\nWeek Five: Collage\nWeek Six and Seven: Own Masterpiece\nWeek Seven: Catch Up Night\nWeek Eight: Exhibition Night\n\nCOURSE INFORMATION\n\nDate:  29th January until 19th March.\nLocation: We will host our classes in a very Spacious meeting room known as Nada\, in Radisson Blu\, Dubai Media City.\nTimings: Saturday – 10.30am – 1.30pm\nExhibition: This will be held on 19th March where you will showcase your art\, and especially your Masterpiece!\nCatch Up: Don’t worry if you miss a class. We have an extra Catch Up class on the 13th of March from 7 pm-10 pm.\n\nPrice: 2\,995 AED (this includes 5% VAT) \nThis includes: \n\n24 hours of classes with all equipment provided;\nFood and beverages during the course;\nYour own portfolio book to keep track of your paintings;\nYour own completion certificate;\nAn exhibition night during the 8th week.\n\nPackage Deals: If you register for the course with a second person\, each of you will receive a 5% discount. So spread the word! \nWe advise booking well in advance as spaces are limited.
URL:https://weloveart-2.tirongraphics-presentation.space/event/8-weeks-level-1-painting-course-29th-january/
LOCATION:Radisson Blue\, Dubai Media City\, Dubai\, United Arab Emirates
CATEGORIES:Painting Courses
ATTACH;FMTTYPE=image/jpeg:https://weloveart-2.tirongraphics-presentation.space/wp-content/uploads/2020/07/Painting-Course-001.jpg
END:VEVENT
END:VCALENDAR